BEGIN:VCALENDAR
VERSION:2.0
PRODID:-//ChamberMaster//Event Calendar 2.0//EN
METHOD:PUBLISH
X-PUBLISHED-TTL:P3D
REFRESH-INTERVAL:P3D
CALSCALE:GREGORIAN
BEGIN:VEVENT
DTSTART:20121117T160000Z
DTEND:20121117T230000Z
X-MICROSOFT-CDO-ALLDAYEVENT:FALSE
SUMMARY:Girlfriends Expo & Getaway
DESCRIPTION:Visit http://www.treasureislandcasino.com/entertainment-mn/concerts-shows-mn/girlfriends-expo/ for more information.
X-ALT-DESC;FMTTYPE=text/html:Visit <span style="font-size: 12pt"><span style="font-family: times new roman\,serif"><a href="http://www.treasureislandcasino.com/entertainment-mn/concerts-shows-mn/girlfriends-expo/"><span style="font-size: 10pt"><span style="font-family: arial\,sans-serif"><span style="color: #0000ff">http://www.treasureislandcasino.com/entertainment-mn/concerts-shows-mn/girlfriends-expo/</span></span></span></a></span></span>&nbsp\;for more information.
LOCATION:Treasure Island Resort & Casino Welch
UID:e.558.1409
SEQUENCE:3
DTSTAMP:20260424T154343Z
URL:http://redwing-mn.chambermaster.com/events/details/girlfriends-expo-getaway-11-17-2012-1409
END:VEVENT

END:VCALENDAR
