BEGIN:VCALENDAR
VERSION:2.0
PRODID:-//ChamberMaster//Event Calendar 2.0//EN
METHOD:PUBLISH
X-PUBLISHED-TTL:P3D
REFRESH-INTERVAL:P3D
CALSCALE:GREGORIAN
BEGIN:VEVENT
DTSTART:20090728T213000Z
DTEND:20090728T230000Z
X-MICROSOFT-CDO-ALLDAYEVENT:FALSE
SUMMARY:Business After Hours
DESCRIPTION:Business After HoursJoin us at the BAH\, Tuesday July 28th - 4:30 @ the 910 Main Street Business to kick off River City Days.  The Miss Red Wing Candidates and their families will be attending. Fun\, food and a great networking opportunity.
X-ALT-DESC;FMTTYPE=text/html:<div><strong>Business After Hours</strong></div><div><div style="margin: 0in 0in 0pt"><span style="font-size: 10pt\; color: black">Join us at the&nbsp\;BAH\, Tuesday July 28<sup>th -</sup>&nbsp\;4:30 </span></div><div style="margin: 0in 0in 0pt"><span style="font-size: 10pt\; color: black">@ the 910 Main Street Business to kick off River City Days. </span></div><div style="margin: 0in 0in 0pt">&nbsp\;</div><div style="margin: 0in 0in 0pt"><span style="font-size: 10pt\; color: black">The Miss Red Wing Candidates and their families will be attending. Fun\, food and a great networking opportunity. </span></div><div style="margin: 0in 0in 0pt">&nbsp\;</div><br />&nbsp\;</div>
LOCATION:910 Main Street
UID:e.558.12
SEQUENCE:3
DTSTAMP:20260421T001126Z
URL:http://redwing-mn.chambermaster.com/events/details/business-after-hours-07-28-2009-12
END:VEVENT

END:VCALENDAR
